BEGIN:VCALENDAR
VERSION:2.0
PRODID:-//Population Health Management Learning Center - ECPv6.15.18//NONSGML v1.0//EN
CALSCALE:GREGORIAN
METHOD:PUBLISH
X-ORIGINAL-URL:https://pophealthlearningcenter.org
X-WR-CALDESC:Events for Population Health Management Learning Center
REFRESH-INTERVAL;VALUE=DURATION:PT1H
X-Robots-Tag:noindex
X-PUBLISHED-TTL:PT1H
BEGIN:VTIMEZONE
TZID:America/Los_Angeles
BEGIN:DAYLIGHT
TZOFFSETFROM:-0800
TZOFFSETTO:-0700
TZNAME:PDT
DTSTART:20250309T100000
END:DAYLIGHT
BEGIN:STANDARD
TZOFFSETFROM:-0700
TZOFFSETTO:-0800
TZNAME:PST
DTSTART:20251102T090000
END:STANDARD
BEGIN:DAYLIGHT
TZOFFSETFROM:-0800
TZOFFSETTO:-0700
TZNAME:PDT
DTSTART:20260308T100000
END:DAYLIGHT
BEGIN:STANDARD
TZOFFSETFROM:-0700
TZOFFSETTO:-0800
TZNAME:PST
DTSTART:20261101T090000
END:STANDARD
BEGIN:DAYLIGHT
TZOFFSETFROM:-0800
TZOFFSETTO:-0700
TZNAME:PDT
DTSTART:20270314T100000
END:DAYLIGHT
BEGIN:STANDARD
TZOFFSETFROM:-0700
TZOFFSETTO:-0800
TZNAME:PST
DTSTART:20271107T090000
END:STANDARD
END:VTIMEZONE
BEGIN:VEVENT
DTSTART;TZID=America/Los_Angeles:20260708T140000
DTEND;TZID=America/Los_Angeles:20260708T150000
DTSTAMP:20260419T063528
CREATED:20260330T192846Z
LAST-MODIFIED:20260417T234510Z
UID:270176-1783519200-1783522800@pophealthlearningcenter.org
SUMMARY:EPT Office Hours - Behavioral Health
DESCRIPTION:This session will be focusing on the Behavioral Health Screening Deliverables Template. Please come with any questions and your deliverable templates. \nTemplate \nRubric \nRegister Here.
URL:https://pophealthlearningcenter.org/event/ept-office-hours-30/
END:VEVENT
BEGIN:VEVENT
DTSTART;TZID=America/Los_Angeles:20260722T140000
DTEND;TZID=America/Los_Angeles:20260722T150000
DTSTAMP:20260419T063528
CREATED:20260330T193143Z
LAST-MODIFIED:20260417T234743Z
UID:270178-1784728800-1784732400@pophealthlearningcenter.org
SUMMARY:EPT Office Hours - Health Related Social Needs
DESCRIPTION:This session will focus on the Health Related Social Needs Deliverable. Come with your questions and templates! \n\n\n\n\n\n\nResources\n\n\n\nTemplate\nRubric\n\nRegister Here.
URL:https://pophealthlearningcenter.org/event/ept-office-hours-31/
ORGANIZER;CN="Programs Team at the Pop Health Learning Center":MAILTO:info@pophealthlc.org
END:VEVENT
BEGIN:VEVENT
DTSTART;TZID=America/Los_Angeles:20260825T150000
DTEND;TZID=America/Los_Angeles:20260825T170000
DTSTAMP:20260419T063528
CREATED:20260414T011403Z
LAST-MODIFIED:20260414T011403Z
UID:270223-1787670000-1787677200@pophealthlearningcenter.org
SUMMARY:SAVE THE DATE - Fall 2026 Learning Communities Part 1
DESCRIPTION:
URL:https://pophealthlearningcenter.org/event/save-the-date-fall-2026-learning-communities-part-1/
ORGANIZER;CN="Programs Team at the Pop Health Learning Center":MAILTO:info@pophealthlc.org
END:VEVENT
BEGIN:VEVENT
DTSTART;TZID=America/Los_Angeles:20260826T110000
DTEND;TZID=America/Los_Angeles:20260826T130000
DTSTAMP:20260419T063528
CREATED:20260414T011437Z
LAST-MODIFIED:20260414T011437Z
UID:270225-1787742000-1787749200@pophealthlearningcenter.org
SUMMARY:SAVE THE DATE - Fall 2026 Learning Communities Part 1
DESCRIPTION:
URL:https://pophealthlearningcenter.org/event/save-the-date-fall-2026-learning-communities-part-1-2/
ORGANIZER;CN="Programs Team at the Pop Health Learning Center":MAILTO:info@pophealthlc.org
END:VEVENT
BEGIN:VEVENT
DTSTART;TZID=America/Los_Angeles:20260901T150000
DTEND;TZID=America/Los_Angeles:20260901T170000
DTSTAMP:20260419T063528
CREATED:20260414T011514Z
LAST-MODIFIED:20260414T011514Z
UID:270227-1788274800-1788282000@pophealthlearningcenter.org
SUMMARY:SAVE THE DATE - Fall 2026 Learning Communities Part 2
DESCRIPTION:
URL:https://pophealthlearningcenter.org/event/save-the-date-fall-2026-learning-communities-part-2/
ORGANIZER;CN="Programs Team at the Pop Health Learning Center":MAILTO:info@pophealthlc.org
END:VEVENT
BEGIN:VEVENT
DTSTART;TZID=America/Los_Angeles:20260903T110000
DTEND;TZID=America/Los_Angeles:20260903T130000
DTSTAMP:20260419T063528
CREATED:20260414T011539Z
LAST-MODIFIED:20260414T011539Z
UID:270229-1788433200-1788440400@pophealthlearningcenter.org
SUMMARY:SAVE THE DATE - Fall 2026 Learning Communities Part 2
DESCRIPTION:
URL:https://pophealthlearningcenter.org/event/save-the-date-fall-2026-learning-communities-part-2-2/
ORGANIZER;CN="Programs Team at the Pop Health Learning Center":MAILTO:info@pophealthlc.org
END:VEVENT
END:VCALENDAR