BEGIN:VCALENDAR
VERSION:2.0
PRODID:-//Population Health Management Learning Center - ECPv6.15.18//NONSGML v1.0//EN
CALSCALE:GREGORIAN
METHOD:PUBLISH
X-WR-CALNAME:Population Health Management Learning Center
X-ORIGINAL-URL:https://pophealthlearningcenter.org
X-WR-CALDESC:Events for Population Health Management Learning Center
REFRESH-INTERVAL;VALUE=DURATION:PT1H
X-Robots-Tag:noindex
X-PUBLISHED-TTL:PT1H
BEGIN:VTIMEZONE
TZID:America/Los_Angeles
BEGIN:DAYLIGHT
TZOFFSETFROM:-0800
TZOFFSETTO:-0700
TZNAME:PDT
DTSTART:20230312T100000
END:DAYLIGHT
BEGIN:STANDARD
TZOFFSETFROM:-0700
TZOFFSETTO:-0800
TZNAME:PST
DTSTART:20231105T090000
END:STANDARD
BEGIN:DAYLIGHT
TZOFFSETFROM:-0800
TZOFFSETTO:-0700
TZNAME:PDT
DTSTART:20240310T100000
END:DAYLIGHT
BEGIN:STANDARD
TZOFFSETFROM:-0700
TZOFFSETTO:-0800
TZNAME:PST
DTSTART:20241103T090000
END:STANDARD
BEGIN:DAYLIGHT
TZOFFSETFROM:-0800
TZOFFSETTO:-0700
TZNAME:PDT
DTSTART:20250309T100000
END:DAYLIGHT
BEGIN:STANDARD
TZOFFSETFROM:-0700
TZOFFSETTO:-0800
TZNAME:PST
DTSTART:20251102T090000
END:STANDARD
END:VTIMEZONE
BEGIN:VEVENT
DTSTART;TZID=America/Los_Angeles:20241114T120000
DTEND;TZID=America/Los_Angeles:20241114T130000
DTSTAMP:20260422T053325
CREATED:20241107T193237Z
LAST-MODIFIED:20241107T193237Z
UID:4075-1731585600-1731589200@pophealthlearningcenter.org
SUMMARY:EPT Office Hours: Quality Improvement
DESCRIPTION:Join our optional office hours to understand how to incorporate a quality improvement approach into EPT. We will review how to conduct small tests of change and apply them to the EPT access and empanelment building blocks. \nRegister here.
URL:https://pophealthlearningcenter.org/event/ept-office-hours-quality-improvement/
ORGANIZER;CN="Programs Team at the Pop Health Learning Center":MAILTO:info@pophealthlc.org
END:VEVENT
BEGIN:VEVENT
DTSTART;TZID=America/Los_Angeles:20241115T120000
DTEND;TZID=America/Los_Angeles:20241115T130000
DTSTAMP:20260422T053325
CREATED:20241107T210419Z
LAST-MODIFIED:20241107T210419Z
UID:4086-1731672000-1731675600@pophealthlearningcenter.org
SUMMARY:EPT Access Office Hours with Coleman Associates
DESCRIPTION:Joining office hours with Coleman Associates offers practices and health centers a valuable opportunity to troubleshoot access issues in real-time\, leveraging proven tactics like Robust Confirmations and strategic “Jockey-ing” of schedules. \nThese sessions provide a hands-on\, collaborative environment to refine scheduling processes\, reduce No-Shows and Missed Opportunities\, and enhance overall patient access to help lower your TNAA (third next available appointment)! We look forward to seeing you there! \nRegister here.
URL:https://pophealthlearningcenter.org/event/ept-access-office-hours-with-coleman-associates/
ORGANIZER;CN="Programs Team at the Pop Health Learning Center":MAILTO:info@pophealthlc.org
END:VEVENT
BEGIN:VEVENT
DTSTART;TZID=America/Los_Angeles:20241122T120000
DTEND;TZID=America/Los_Angeles:20241122T130000
DTSTAMP:20260422T053325
CREATED:20241107T211227Z
LAST-MODIFIED:20241113T223105Z
UID:4088-1732276800-1732280400@pophealthlearningcenter.org
SUMMARY:EPT Access Office Hours with Coleman Associates
DESCRIPTION:Joining office hours with Coleman Associates offers practices and health centers a valuable opportunity to troubleshoot access issues in real-time\, leveraging proven tactics like Robust Confirmations and strategic “Jockey-ing” of schedules. \nThese sessions provide a hands-on\, collaborative environment to refine scheduling processes\, reduce No-Shows and Missed Opportunities\, and enhance overall patient access to help lower your TNAA (third next available appointment)! We look forward to seeing you there! \nRegister here.
URL:https://pophealthlearningcenter.org/event/ept-access-office-hours-with-coleman-associates-2/
ORGANIZER;CN="Programs Team at the Pop Health Learning Center":MAILTO:info@pophealthlc.org
END:VEVENT
END:VCALENDAR