BEGIN:VCALENDAR
VERSION:2.0
PRODID:-//Population Health Management Learning Center - ECPv6.15.18//NONSGML v1.0//EN
CALSCALE:GREGORIAN
METHOD:PUBLISH
X-WR-CALNAME:Population Health Management Learning Center
X-ORIGINAL-URL:https://pophealthlearningcenter.org
X-WR-CALDESC:Events for Population Health Management Learning Center
REFRESH-INTERVAL;VALUE=DURATION:PT1H
X-Robots-Tag:noindex
X-PUBLISHED-TTL:PT1H
BEGIN:VTIMEZONE
TZID:America/Los_Angeles
BEGIN:DAYLIGHT
TZOFFSETFROM:-0800
TZOFFSETTO:-0700
TZNAME:PDT
DTSTART:20250309T100000
END:DAYLIGHT
BEGIN:STANDARD
TZOFFSETFROM:-0700
TZOFFSETTO:-0800
TZNAME:PST
DTSTART:20251102T090000
END:STANDARD
BEGIN:DAYLIGHT
TZOFFSETFROM:-0800
TZOFFSETTO:-0700
TZNAME:PDT
DTSTART:20260308T100000
END:DAYLIGHT
BEGIN:STANDARD
TZOFFSETFROM:-0700
TZOFFSETTO:-0800
TZNAME:PST
DTSTART:20261101T090000
END:STANDARD
BEGIN:DAYLIGHT
TZOFFSETFROM:-0800
TZOFFSETTO:-0700
TZNAME:PDT
DTSTART:20270314T100000
END:DAYLIGHT
BEGIN:STANDARD
TZOFFSETFROM:-0700
TZOFFSETTO:-0800
TZNAME:PST
DTSTART:20271107T090000
END:STANDARD
END:VTIMEZONE
BEGIN:VEVENT
DTSTART;TZID=America/Los_Angeles:20260708T140000
DTEND;TZID=America/Los_Angeles:20260708T150000
DTSTAMP:20260419T050859
CREATED:20260330T192846Z
LAST-MODIFIED:20260417T234510Z
UID:270176-1783519200-1783522800@pophealthlearningcenter.org
SUMMARY:EPT Office Hours - Behavioral Health
DESCRIPTION:This session will be focusing on the Behavioral Health Screening Deliverables Template. Please come with any questions and your deliverable templates. \nTemplate \nRubric \nRegister Here.
URL:https://pophealthlearningcenter.org/event/ept-office-hours-30/
END:VEVENT
BEGIN:VEVENT
DTSTART;TZID=America/Los_Angeles:20260722T140000
DTEND;TZID=America/Los_Angeles:20260722T150000
DTSTAMP:20260419T050859
CREATED:20260330T193143Z
LAST-MODIFIED:20260417T234743Z
UID:270178-1784728800-1784732400@pophealthlearningcenter.org
SUMMARY:EPT Office Hours - Health Related Social Needs
DESCRIPTION:This session will focus on the Health Related Social Needs Deliverable. Come with your questions and templates! \n\n\n\n\n\n\nResources\n\n\n\nTemplate\nRubric\n\nRegister Here.
URL:https://pophealthlearningcenter.org/event/ept-office-hours-31/
ORGANIZER;CN="Programs Team at the Pop Health Learning Center":MAILTO:info@pophealthlc.org
END:VEVENT
END:VCALENDAR